Workbook

Sheet Rekapitulacija
A2: Naziv društva: | B2: DOM ZDRAVLJA ZAGREB - ISTOK
A3: Adresa i kućni broj: | B3: ŠVARCOVA 20
A4: Mjesto: | B4: 10000 ZAGREB
A5: OIB: | B5: 97103671104
A6: NKD: | B6: 86.21 DJELATNOST OPĆE MEDICINSKE PRAKSE
A8: Način plaćanja premije | B8: obročno u 10 rata
A9: Način plaćanja premije | B9: za vozila - plaćanje odjednom
A11: REKAPITULACIJA PONUDE | C11: PREMIJA
A13: 1. A | B13: OSIGURANJE IMOVINE PODRUČJE DUBRAVA | C13: ='IMOVINA-DUBRAVA'!L133 -> 0
A14: 1. B | B14: OSIGURANJE IMOVINE PODRUČJE MAKSIMIR | C14: ='IMOVINA MAKSIMIR'!L144 -> 0
A15: 1. C | B15: OSIGURANJE IMOVINE PODRUČJE PEŠĆENICA | C15: ='IMOVINA PEŠĆENICA'!L147 -> 0
A16: 1. D | B16: OSIGURANJE IMOVINE PODRUČJE SESVETE | C16: ='IMOVINA SESVETE'!L153 -> 0
A17: 2. A | B17: OSIGURANJE OD ODGOVORNOSTI PREMA TREĆIM | C17: =' ODGOVORNOST'!H22 -> 0
A18: 2. B | B18: OSIGURANJE OD PROFESIONALNE ODGOVORNOSTI | C18: =' ODGOVORNOST'!H53 -> 0
A19: 3. A | B19: OSIGURANJE OD AUTOMOBILSKE ODGOVORNOSTI | C19: ='OSIGURANJE AO'!Q22 -> 0
A20: 3. B | B20: KASKO OSIGURANJE VOZILA | C20: ='Osiguranje AK'!N12 -> 0
A23: 1. | B23: UKUPNPO OSIGURANJE IMOVINE: | C23: =C13+C14+C15+C16 -> 0
A24: 2. | B24: UKUPNO OSIGURANJE OD ODGOVORNOSTI: | C24: =C17+C18 -> 0
A25: 3. | B25: UKUPNO OSIGURANJE MOTORNIH VOZILA: | C25: =C19+C20 -> 0
A26: SVEUKUPNO: | C26: =SUM(C23:C25) -> 0

Sheet IMOVINA-DUBRAVA
A2: 1. A - OSIGURANJE IMOVINE
A3: MJESTO OSIGURANJE | D3: PODRUČJE DUBRAVA, PREMA POPISU
A5: 1.1. PREDMET OSIGURANJA: GRIŽANSKA 4 - Građevinski objekt masivne građe, ukupne površine 2.674 m2. Godina izgradnje: 1981.
A6: Osigurani rizici | I6: Svota osiguranja (HRK) | K6: Svota osiguranja (EUR) | L6: Premija osiguranja (EUR)
A7: Požar i neki drugi rizici na NOVU vrijednost | I7: 14707000 | K7: =I7/7.5345 -> 1951954.3 | L7: 0
A8: Izljev vode iz vodovodnih i kanalizacijskih cijevi na PRVI RIZIK | I8: 100000 | K8: =I8/7.5345 -> 13272.281 | L8: 0
A9: Poplava, bujica, visoka voda i blatni tok na PRVI RIZIK | I9: 100000 | K9: =I9/7.5345 -> 13272.281 | L9: 0
A10: Veći troškovi popravka na građ. objektu uslijed provalne krađe i razbojstva | I10: 5000 | K10: =I10/7.5345 -> 663.61404 | L10: =I10*M10/1000 -> 0
A11: UKUPNO: | L11: =SUM(L7:L10) -> 0
A12: 1.2. PREDMET OSIGURANJA: Medicinska oprema, prema poslovnim knjigama (iskazana nabavna vrijednost na 31.12.2022.)
A13: Osigurani rizici | I13: Svota osiguranja (HRK) | K13: Svota osiguranja (EUR) | L13: Premija osiguranja (EUR)
A14: Požar i neki drugi rizici na NOVU vrijednost | I14: 4335230 | K14: =I14/7.5345 -> 575383.9 | L14: 0
A15: Izljev vode iz vodovodnih i kanalizacijskih cijevi na PRVI RIZIK | I15: 40000 | K15: =I15/7.5345 -> 5308.9123 | L15: 0
A16: Poplava, bujica, visoka voda i blatni tok na PRVI RIZIK | I16: 40000 | K16: =I16/7.5345 -> 5308.9123 | L16: 0
A17: Provalna krađa i razbojstvo na PRVI RIZIK | I17: 200000 | K17: =I17/7.5345 -> 26544.562 | L17: 0
A18: UKUPNO: | L18: =SUM(L14:L17) -> 0
A19: UKUPNO ST. 1.: | L19: =L11+L18 -> 0
A21: 2.1. PREDMET OSIGURANJA: LJUBIJSKA 60 - Građevinski objekt masivne građe, ukupne površine 392 m2. Godina izgradnje: 1978.
A22: Osigurani rizici | I22: Svota osiguranja (HRK) | K22: Svota osiguranja (EUR) | L22: Premija osiguranja (EUR)
A23: Požar i neki drugi rizici na NOVU vrijednost | I23: 1945923 | K23: =I23/7.5345 -> 258268.37 | L23: 0
A24: Izljev vode iz vodovodnih i kanalizacijskih cijevi na PRVI RIZIK | I24: 60000 | K24: =I24/7.5345 -> 7963.3685 | L24: 0
A25: Poplava, bujica, visoka voda i blatni tok na PRVI RIZIK | I25: 60000 | K25: =I25/7.5345 -> 7963.3685 | L25: 0
A26: Veći troškovi popravka na građ. objektu uslijed provalne krađe i razbojstva | I26: 5000 | K26: =I26/7.5345 -> 663.61404 | L26: =I26*M26/1000 -> 0
A27: UKUPNO: | L27: =SUM(L23:L26) -> 0
A28: 2.2. PREDMET OSIGURANJA: Medicinska oprema, prema poslovnim knjigama (iskazana nabavna vrijednost na 31.12.2022.)
A29: Osigurani rizici | I29: Svota osiguranja (HRK) | K29: Svota osiguranja (EUR) | L29: Premija osiguranja (EUR)
A30: Požar i neki drugi rizici na NOVU vrijednost | I30: 246432 | K30: =I30/7.5345 -> 32707.147 | L30: 0
A31: Izljev vode iz vodovodnih i kanalizacijskih cijevi na PRVI RIZIK | I31: 10000 | K31: =I31/7.5345 -> 1327.2281 | L31: 0
A32: Poplava, bujica, visoka voda i blatni tok na PRVI RIZIK | I32: 10000 | K32: =I32/7.5345 -> 1327.2281 | L32: 0
A33: Provalna krađa i razbojstvo na PRVI RIZIK | I33: 10000 | K33: =I33/7.5345 -> 1327.2281 | L33: 0
A34: UKUPNO: | L34: =SUM(L30:L33) -> 0
A35: UKUPNO ST. 2.: | L35: =L27+L34 -> 0
A37: 3.1. PREDMET OSIGURANJA: VILE VELEBITA 1K/STUDENTSKI GRAD - Građevinski objekt masivne građe, ukupne površine 140 m2. Godina izgradnje: 1955.
A38: Osigurani rizici | I38: Svota osiguranja (HRK) | K38: Svota osiguranja (EUR) | L38: Premija osiguranja (EUR)
A39: Požar i neki drugi rizici na NOVU vrijednost | I39: 1848497.2 | K39: =I39/7.5345 -> 245337.74 | L39: 0
A40: Izljev vode iz vodovodnih i kanalizacijskih cijevi na PRVI RIZIK | I40: 20000 | K40: =I40/7.5345 -> 2654.4562 | L40: 0
A41: Poplava, bujica, visoka voda i blatni tok na PRVI RIZIK | I41: 20000 | K41: =I41/7.5345 -> 2654.4562 | L41: 0
A42: Veći troškovi popravka na građ. objektu uslijed provalne krađe i razbojstva | I42: 5000 | K42: =I42/7.5345 -> 663.61404 | L42: =I42*M42/1000 -> 0
A43: UKUPNO: | L43: =SUM(L39:L42) -> 0
A44: 3.2. PREDMET OSIGURANJA: Medicinska oprema, prema poslovnim knjigama (iskazana nabavna vrijednost na 31.12.2022.)
...

Sheet IMOVINA MAKSIMIR
A2: 1. B - OSIGURANJE IMOVINE
A3: MJESTO OSIGURANJE | D3: PODRUČJE MAKSIMIR, MJESTA PREMA OPISU
A5: 1.1. PREDMET OSIGURANJA: ŠVARCOVA 20 - Građevinski objekt masivne građe, ukupne površine 1.686,00 m2. Godina izgradnje: 1953.
A6: Osigurani rizici | I6: Svota osiguranja (HRK) | K6: Svota osiguranja (EUR) | L6: Premija osiguranja (EUR)
A7: Požar i neki drugi rizici na NOVU vrijednost | I7: 8345700 | K7: =I7/7.5345 -> 1107664.7 | L7: =I7*M7/1000 -> 0
A8: Izljev vode iz vodovodnih i kanalizacijskih cijevi na PRVI RIZIK | I8: 100000 | K8: =I8/7.5345 -> 13272.281 | L8: =I8*M8/1000 -> 0
A9: Poplava, bujica, visoka voda i blatni tok na PRVI RIZIK | I9: 100000 | K9: =I9/7.5345 -> 13272.281 | L9: 0
A10: Veći troškovi popravka na građ. objektu uslijed provalne krađe i razbojstva | I10: 5000 | K10: =I10/7.5345 -> 663.61404 | L10: =I10*M10/1000 -> 0
A11: UKUPNO: | L11: =SUM(L7:L10) -> 0
A12: 1.2. PREDMET OSIGURANJA: Medicinska oprema, prema poslovnim knjigama (iskazana nabavna vrijednost na 31.12.2022.)
A13: Osigurani rizici | I13: Svota osiguranja (HRK) | K13: Svota osiguranja (EUR) | L13: Premija osiguranja (EUR)
A14: Požar i neki drugi rizici na NOVU vrijednost | I14: 4356957 | K14: =I14/7.5345 -> 578267.57 | L14: =I14*M14/1000 -> 0
A15: Izljev vode iz vodovodnih i kanalizacijskih cijevi na PRVI RIZIK | I15: 50000 | K15: =I15/7.5345 -> 6636.1404 | L15: =I15*M15/1000 -> 0
A16: Poplava, bujica, visoka voda i blatni tok na PRVI RIZIK | I16: 50000 | K16: =I16/7.5345 -> 6636.1404 | L16: =I16*M16/1000 -> 0
A17: Provalna krađa i razbojstvo na PRVI RIZIK | I17: 100000 | K17: =I17/7.5345 -> 13272.281 | L17: =I17*M17/1000 -> 0
A18: UKUPNO: | L18: =SUM(L14:L17) -> 0
A19: 1.3. PREDMET OSIGURANJA: Gotov novac i druge vrijednosti za vrijeme manipulacije na blagajni - br.blagajni: 1
A20: Osigurani rizici | I20: Svota osiguranja (HRK) | K20: Svota osiguranja (EUR) | L20: Premija osiguranja (EUR)
A21: Razbojstvo na PRVI RIZIK | I21: 30000 | K21: =I21/7.5345 -> 3981.6843 | L21: =I21*M21/1000 -> 0
A22: UKUPNO: | L22: =L21 -> 0
A23: UKUPNO ST. 1.: | L23: =L11+L18+L22 -> 0
A25: 2.1. PREDMET OSIGURANJA: HIRČEVA 1 - Građevinski objekt masivne građe, ukupne površine 1.289 m2. Godina izgradnje: 1988.
A26: Osigurani rizici | I26: Svota osiguranja (HRK) | K26: Svota osiguranja (EUR) | L26: Premija osiguranja (EUR)
A27: Požar i neki drugi rizici na NOVU vrijednost | I27: 6380550 | K27: =I27/7.5345 -> 846844.52 | L27: =I27*M27/1000 -> 0
A28: Izljev vode iz vodovodnih i kanalizacijskih cijevi na PRVI RIZIK | I28: 70000 | K28: =I28/7.5345 -> 9290.5966 | L28: =I28*M28/1000 -> 0
A29: Poplava, bujica, visoka voda i blatni tok na PRVI RIZIK | I29: 70000 | K29: =I29/7.5345 -> 9290.5966 | L29: =I29*M29/1000 -> 0
A30: Veći troškovi popravka na građ. objektu uslijed provalne krađe i razbojstva | I30: 5000 | K30: =I30/7.5345 -> 663.61404 | L30: =I30*M30/1000 -> 0
A31: UKUPNO: | L31: =SUM(L27:L30) -> 0
A32: 2.2. PREDMET OSIGURANJA: Medicinska oprema, prema poslovnim knjigama (iskazana nabavna vrijednost na 31.12.2022.)
A33: Osigurani rizici | I33: Svota osiguranja (HRK) | K33: Svota osiguranja (EUR) | L33: Premija osiguranja (EUR)
A34: Požar i neki drugi rizici na NOVU vrijednost | I34: 939156 | K34: =I34/7.5345 -> 124647.42 | L34: =I34*M34/1000 -> 0
A35: Izljev vode iz vodovodnih i kanalizacijskih cijevi na PRVI RIZIK | I35: 50000 | K35: =I35/7.5345 -> 6636.1404 | L35: =I35*M35/1000 -> 0
A36: Poplava, bujica, visoka voda i blatni tok na PRVI RIZIK | I36: 50000 | K36: =I36/7.5345 -> 6636.1404 | L36: =I36*M36/1000 -> 0
A37: Provalna krađa i razbojstvo na PRVI RIZIK | I37: 100000 | K37: =I37/7.5345 -> 13272.281 | L37: =I37*M37/1000 -> 0
A38: UKUPNO: | L38: =SUM(L34:L37) -> 0
A39: UKUPNO ST. 2.: | L39: =L31+L38 -> 0
A41: 3.1. PREDMET OSIGURANJA: ŠEFEROVA 1/RAVNICE - Građevinski objekt masivne građe, ukupne površine 412 m2. Godina izgradnje: 1979.
A42: Osigurani rizici | I42: Svota osiguranja (HRK) | K42: Svota osiguranja (EUR) | L42: Premija osiguranja (EUR)
A43: Požar i neki drugi rizici na NOVU vrijednost | I43: 2039400 | K43: =I43/7.5345 -> 270674.9 | L43: =I43*M43/1000 -> 0
A44: Izljev vode iz vodovodnih i kanalizacijskih cijevi na PRVI RIZIK | I44: 40000 | K44: =I44/7.5345 -> 5308.9123 | L44: =I44*M44/1000 -> 0
...

Sheet IMOVINA PEŠĆENICA
A2: 1. C - OSIGURANJE IMOVINE
A3: MJESTO OSIGURANJE | D3: PODRUČJE PEŠĆENICA, MJESTA PREMA OPISU
A5: 1.1. PREDMET OSIGURANJA: IVANIĆGARDSKA 38 - Građevinski objekt masivne građe, ukupne površine 3.593 m2. Godina izgradnje: stari dio: 1958., dogradnja (novi dio): 1985.
A6: Osigurani rizici | I6: Svota osiguranja (HRK) | K6: Svota osiguranja (EUR) | L6: Premija osiguranja (EUR)
A7: Požar i neki drugi rizici na NOVU vrijednost | I7: 17785350 | K7: =I7/7.5345 -> 2360521.6 | L7: =I7*M7/1000 -> 0
A8: Izljev vode iz vodovodnih i kanalizacijskih cijevi na PRVI RIZIK | I8: 100000 | K8: =I8/7.5345 -> 13272.281 | L8: 0
A9: Poplava, bujica, visoka voda i blatni tok na PRVI RIZIK | I9: 100000 | K9: =I9/7.5345 -> 13272.281 | L9: =I9*M9/1000 -> 0
A10: Veći troškovi popravka na građ. objektu uslijed provalne krađe i razbojstva | I10: 5000 | K10: =I10/7.5345 -> 663.61404 | L10: =I10*M10/1000 -> 0
A11: UKUPNO: | L11: =SUM(L7:L10) -> 0
A12: 1.2. PREDMET OSIGURANJA: Medicinska oprema, prema poslovnim knjigama (iskazana nabavna vrijednost na 31.12.2022.)
A13: Osigurani rizici | I13: Svota osiguranja (HRK) | K13: Svota osiguranja (EUR) | L13: Premija osiguranja (EUR)
A14: Požar i neki drugi rizici na NOVU vrijednost | I14: 4459176 | K14: =I14/7.5345 -> 591834.36 | L14: =I14*M14/1000 -> 0
A15: Izljev vode iz vodovodnih i kanalizacijskih cijevi na PRVI RIZIK | I15: 50000 | K15: =I15/7.5345 -> 6636.1404 | L15: =I15*M15/1000 -> 0
A16: Poplava, bujica, visoka voda i blatni tok na PRVI RIZIK | I16: 50000 | K16: =I16/7.5345 -> 6636.1404 | L16: =I16*M16/1000 -> 0
A17: Provalna krađa i razbojstvo na PRVI RIZIK | I17: 200000 | K17: =I17/7.5345 -> 26544.562 | L17: =I17*M17/1000 -> 0
A18: UKUPNO: | L18: =SUM(L14:L17) -> 0
A19: UKUPNO ST. 1.: | L19: =L11+L18 -> 0
A21: 2.1. PREDMET OSIGURANJA: VIDRIĆEVA 38/BORONGAJ - Građevinski objekt masivne građe, ukupne površine 961 m2. Godina izgradnje: 2006.
A22: Osigurani rizici | I22: Svota osiguranja (HRK) | K22: Svota osiguranja (EUR) | L22: Premija osiguranja (EUR)
A23: Požar i neki drugi rizici na NOVU vrijednost | I23: 4756950 | K23: =I23/7.5345 -> 631355.76 | L23: =I23*M23/1000 -> 0
A24: Izljev vode iz vodovodnih i kanalizacijskih cijevi na PRVI RIZIK | I24: 100000 | K24: =I24/7.5345 -> 13272.281 | L24: =I24*M24/1000 -> 0
A25: Poplava, bujica, visoka voda i blatni tok na PRVI RIZIK | I25: 100000 | K25: =I25/7.5345 -> 13272.281 | L25: =I25*M25/1000 -> 0
A26: Veći troškovi popravka na građ. objektu uslijed provalne krađe i razbojstva | I26: 5000 | K26: =I26/7.5345 -> 663.61404 | L26: =I26*M26/1000 -> 0
A27: UKUPNO: | L27: =SUM(L23:L26) -> 0
A28: 2.2. PREDMET OSIGURANJA: Medicinska oprema, prema poslovnim knjigama (iskazana nabavna vrijednost na 31.12.2022.)
A29: Osigurani rizici | I29: Svota osiguranja (HRK) | K29: Svota osiguranja (EUR) | L29: Premija osiguranja (EUR)
A30: Požar i neki drugi rizici na NOVU vrijednost | I30: 399050 | K30: =I30/7.5345 -> 52963.037 | L30: =I30*M30/1000 -> 0
A31: Izljev vode iz vodovodnih i kanalizacijskih cijevi na PRVI RIZIK | I31: 15000 | K31: =I31/7.5345 -> 1990.8421 | L31: =I31*M31/1000 -> 0
A32: Poplava, bujica, visoka voda i blatni tok na PRVI RIZIK | I32: 15000 | K32: =I32/7.5345 -> 1990.8421 | L32: =I32*M32/1000 -> 0
A33: Provalna krađa i razbojstvo na PRVI RIZIK | I33: 10000 | K33: =I33/7.5345 -> 1327.2281 | L33: =I33*M33/1000 -> 0
A34: UKUPNO: | L34: =SUM(L30:L33) -> 0
A35: UKUPNO ST. 2.: | L35: =L27+L34 -> 0
A37: 3.1. PREDMET OSIGURANJA: NJEGOŠEVA 10 - Građevinski objekt masivne građe, ukupne površine 446 m2. Godina izgradnje: 1976.
A38: Osigurani rizici | I38: Svota osiguranja (HRK) | K38: Svota osiguranja (EUR) | L38: Premija osiguranja (EUR)
A39: Požar i neki drugi rizici na NOVU vrijednost | I39: 2207700 | K39: =I39/7.5345 -> 293012.14 | L39: =I39*M39/1000 -> 0
A40: Izljev vode iz vodovodnih i kanalizacijskih cijevi na PRVI RIZIK | I40: 50000 | K40: =I40/7.5345 -> 6636.1404 | L40: =I40*M40/1000 -> 0
A41: Poplava, bujica, visoka voda i blatni tok na PRVI RIZIK | I41: 50000 | K41: =I41/7.5345 -> 6636.1404 | L41: =I41*M41/1000 -> 0
A42: Veći troškovi popravka na građ. objektu uslijed provalne krađe i razbojstva | I42: 5000 | K42: =I42/7.5345 -> 663.61404 | L42: =I42*M42/1000 -> 0
A43: UKUPNO: | L43: =SUM(L39:L42) -> 0
A44: 3.2. PREDMET OSIGURANJA: Medicinska oprema, prema poslovnim knjigama (iskazana nabavna vrijednost na 31.12.2022.)
...

Sheet IMOVINA SESVETE
A2: 1. D - OSIGURANJE IMOVINE
A3: MJESTO OSIGURANJE | D3: PODRUČJE SESVETE, MJESTA PREMA OPISU
A5: 1.1. PREDMET OSIGURANJA: NINSKA 10 i NINSKA 16 - Građevinski objekt masivne građe, godina izgradnje: 1965, dogradnja : 1990. (Ninska 10) i Građevinski objekt masivne građe, godina izgradnje: 1984 (Ninska 16), ukupne površine 2.944 m2 (Objekti fizički povezani pasažom)
A6: Osigurani rizici | I6: Svota osiguranja (HRK) | K6: Svota osiguranja (EUR) | L6: Premija osiguranja (EUR)
A7: Požar i neki drugi rizici na NOVU vrijednost | I7: 14647322 | K7: =I7/7.5345 -> 1944033.7 | L7: 0
A8: Izljev vode iz vodovodnih i kanalizacijskih cijevi na PRVI RIZIK | I8: 100000 | K8: =I8/7.5345 -> 13272.281 | L8: 0
A9: Poplava, bujica, visoka voda i blatni tok na PRVI RIZIK | I9: 100000 | K9: =I9/7.5345 -> 13272.281 | L9: 0
A10: Veći troškovi popravka na građ. objektu uslijed provalne krađe i razbojstva | I10: 5000 | K10: =I10/7.5345 -> 663.61404 | L10: 0
A11: UKUPNO: | L11: =SUM(L7:L10) -> 0
A12: 1.2. PREDMET OSIGURANJA: NINSKA 10 Medicinska oprema, prema poslovnim knjigama (iskazana nabavna vrijednost na 31.12.2022.)
A13: Osigurani rizici | I13: Svota osiguranja (HRK) | K13: Svota osiguranja (EUR) | L13: Premija osiguranja (EUR)
A14: Požar i neki drugi rizici na NOVU vrijednost | I14: 4336918 | K14: =I14/7.5345 -> 575607.94 | L14: =I14*M14/1000 -> 0
A15: Izljev vode iz vodovodnih i kanalizacijskih cijevi na PRVI RIZIK | I15: 100000 | K15: =I15/7.5345 -> 13272.281 | L15: =I15*M15/1000 -> 0
A16: Poplava, bujica, visoka voda i blatni tok na PRVI RIZIK | I16: 100000 | K16: =I16/7.5345 -> 13272.281 | L16: =I16*M16/1000 -> 0
A17: Provalna krađa i razbojstvo na PRVI RIZIK | I17: 200000 | K17: =I17/7.5345 -> 26544.562 | L17: =I17*M17/1000 -> 0
A18: UKUPNO: | L18: =SUM(L14:L17) -> 0
A19: 1.3. PREDMET OSIGURANJA: NINSKA 10 Zalihe robe (lijekovi) u ljekarni koja se nalazi u prizemlju zgarde, prema poslovnim knjigama
A20: Osigurani rizici | I20: Svota osiguranja (HRK) | K20: Svota osiguranja (EUR) | L20: Premija osiguranja (EUR)
A21: Požar i neki drugi rizici na STVARNU vrijednost | I21: 700000 | K21: =I21/7.5345 -> 92905.966 | L21: =I21*M21/1000 -> 0
A22: Izljev vode iz vodovodnih i kanalizacijskih cijevi na PRVI RIZIK | I22: 35000 | K22: =I22/7.5345 -> 4645.2983 | L22: =I22*M22/1000 -> 0
A23: Poplava, bujica, visoka voda i blatni tok na PRVI RIZIK | I23: 35000 | K23: =I23/7.5345 -> 4645.2983 | L23: =I23*M23/1000 -> 0
A24: Provalna krađa i razbojstvo na PRVI RIZIK | I24: 17500 | K24: =I24/7.5345 -> 2322.6491 | L24: =I24*M24/1000 -> 0
A25: UKUPNO: | L25: =SUM(L21:L24) -> 0
A26: 1.4. PREDMET OSIGURANJA: NINSKA 16 Medicinska oprema, prema poslovnim knjigama (iskazana nabavna vrijednost na 31.12.2022.)
A27: Osigurani rizici | I27: Svota osiguranja (HRK) | K27: Svota osiguranja (EUR) | L27: Premija osiguranja (EUR)
A28: Požar i neki drugi rizici na NOVU vrijednost | I28: 4693520 | K28: =I28/7.5345 -> 622937.16 | L28: =I28*M28/1000 -> 0
A29: Izljev vode iz vodovodnih i kanalizacijskih cijevi na PRVI RIZIK | I29: 100000 | K29: =I29/7.5345 -> 13272.281 | L29: =I29*M29/1000 -> 0
A30: Poplava, bujica, visoka voda i blatni tok na PRVI RIZIK | I30: 100000 | K30: =I30/7.5345 -> 13272.281 | L30: =I30*M30/1000 -> 0
A31: Provalna krađa i razbojstvo na PRVI RIZIK | I31: 100000 | K31: =I31/7.5345 -> 13272.281 | L31: =I31*M31/1000 -> 0
A32: UKUPNO: | L32: =SUM(L28:L31) -> 0
A33: UKUPNO ST. 1.: | L33: =L11+L18+L25+L32 -> 0
A35: 2.1. PREDMET OSIGURANJA: IVANA MAŽURANIĆA 47/KAŠINA- Građevinski objekt masivne građe, ukupne površine 86 m2. Godina izgradnje: 1960.
A36: Osigurani rizici | I36: Svota osiguranja (HRK) | K36: Svota osiguranja (EUR) | L36: Premija osiguranja (EUR)
A37: Požar i neki drugi rizici na NOVU vrijednost | I37: 425700 | K37: =I37/7.5345 -> 56500.1 | L37: =I37*M37/1000 -> 0
A38: Izljev vode iz vodovodnih i kanalizacijskih cijevi na PRVI RIZIK | I38: 15000 | K38: =I38/7.5345 -> 1990.8421 | L38: =I38*M38/1000 -> 0
A39: Poplava, bujica, visoka voda i blatni tok na PRVI RIZIK | I39: 15000 | K39: =I39/7.5345 -> 1990.8421 | L39: =I39*M39/1000 -> 0
A40: Veći troškovi popravka na građ. objektu uslijed provalne krađe i razbojstva | I40: 5000 | K40: =I40/7.5345 -> 663.61404 | L40: =I40*M40/1000 -> 0
A41: UKUPNO: | L41: =SUM(L37:L40) -> 0
A42: 2.2. PREDMET OSIGURANJA: Medicinska oprema, prema poslovnim knjigama (iskazana nabavna vrijednost na 31.12.2022.)
A43: Osigurani rizici | I43: Svota osiguranja (HRK) | K43: Svota osiguranja (EUR) | L43: Premija osiguranja (EUR)
...

Sheet  ODGOVORNOST
B1: UGOVARATELJ: | E1: DOM ZDRAVLJA ZAGREB - ISTOK
B2: OSIGURANIK: | E2: DOM ZDRAVLJA ZAGREB - ISTOK
B3: ADRESA: | E3: ŠVARCOVA 20, ZAGREB
B4: OIB: | E4: 97103671104
B5: NKD: | E5: 86.21 DJELATNOST OPĆE MEDICINSKE PRAKSE
B7: UKUPAN PRIHOD U 2022.: | E7: 136000000 | H7: =E7/7.5345 -> 18050302
B9: BROJ DJELATNIKA: | E9: 495
B10: BROJ ZDRAVSTVENIH DJELATNIKA | E10: 398
B12: DODATNI IZVORI OPASNOSTI
B13: UZV-aparati | F13: 18
B14: RTG-aparati | F14: 16
B15: Mamografi | F15: 4
B16: UKUPNO: | F16: =SUM(F13:G15) -> 38
B18: 2 A. JAVNA ODGOVORNOST IZ DJELATNOSTI PREMA TREĆIM OSOBAMA | H18: PREMIJA
B20: Svota osiguranja po štetnom događaju (HRK) | E20: =200000/7.5345 -> 26544.562 | H20: 0
B21: Agregatni limit (HRK) | E21: =400000/7.5345 -> 53089.123 | H21: 0
B22: UKUPNO: | H22: =SUM(H20:H21) -> 0
B25: 2B. OSIGURANJE OD PROFESIONALNE ODGOVORNOSTI | H25: PREMIJA
B27: ZDRAVSTVENO OSOBLJE | G27: BROJ | H27: PREMIJA
B28: Liječnici opće/obiteljske medicine | G28: 51 | H28: 0
B29: Liječnici zdravstvene zaštite predškolske djece | G29: 10 | H29: 0
B30: Liječnici dentalne medicine | G30: 48 | H30: 0
B31: Liječnici zdravstvene zaštite žena | G31: 5 | H31: 0
B32: Oftalmolozi | G32: 4 | H32: 0
B33: Dermatolozi | G33: 2 | H33: 0
B34: Internisti | G34: 1 | H34: 0
B35: Psihijatri | G35: 2 | H35: 0
B36: Psiholozi | G36: 1 | H36: 0
B37: Doktori radiologije | G37: 6 | H37: 0
B38: Inženjeri radiologije | G38: 16 | H38: 0
B39: Medicinski labortorijski inženjeri | G39: 4 | H39: 0
... B47: Farmaceutski tehničari | G47: 2 | H47: 0
B48: UKUPNO: | G48: =SUM(G28:G47) -> 398 | H48: =SUM(H28:H47) -> 0
B51: Svota osiguranja po štetnom događaju (HRK) | E51: =200000/7.5345 -> 26544.562 | H51: 0
B52: Agregatni limit (HRK) | E52: =400000/7.5345 -> 53089.123
B53: UKUPNO: | H53: =SUM(H48+H51) -> 0
B55: UKUPNO ODGOVORNOST: | H55: =H22+H53 -> 0

Sheet OSIGURANJE AO
A1: OSIGURANJE MOTORNIH VOZILA
A2: Tablica - Osiguranje od automobilske odgovornosti
A3: OSIGURANJE OD AUTOMOBILSKE ODGOVORNOSTI
A4: R. br. | B4: Reg. oznaka | C4: Osiguranik | D4: Vrsta vozila | E4: Marka vozila | F4: Tip vozila | G4: Model vozila | H4: Broj šasije | I4: Godina proizvodnje | J4: Teh. karakteristika vozila | K4: NDM | L4: Broj registriranih mjesta | M4: Datum isteka police | N4: Trenutni bonus /malus na policama | O4: Godišnja premija autoodgovornosti s 15% poreza | P4: Premija auto nezgode | Q4: Ukupna premija (eura)
A5: 1 | B5: 2 | C5: 3 | D5: 4 | E5: 5 | F5: 6 | G5: 7 | H5: 8 | I5: 9 | J5: 10 | K5: 11 | L5: 12 | M5: 13 | N5: 14 | O5: 15 | P5: 16 | Q5: 15+16
A6: 1. | B6: ZG 2714-FE | C6: DZ ZAGREB-ISTOK | D6: Osobno | E6: CITROEN | F6: NEMO | G6: 1.4I MULTISPACE | H6: VF7AJKFT0C8287582 | I6: 2014. | J6: 54 kW | L6: 5 | M6: 24.03. | N6: 0.5 | Q6: =O6+P6 -> 0
A7: 2. | B7: ZG 5490-FL | C7: DZ ZAGREB-ISTOK | D7: osobno | E7: VOLKSWAGEN | F7: CADDY | G7: 1.6 TDI | H7: WV2ZZZ2KZEX146044 | I7: 2015. | J7: 75 kW | L7: 5 | M7: 30.03. | N7: 0.2 | Q7: =O7+P7 -> 0
A8: 3. | B8: ZG 6909-GJ | C8: DZ ZAGREB-ISTOK | D8: Osobno | E8: CITROEN | F8: C4 | G8: FEEL BLUE 1.6 HDI | H8: VF7NCBHY6HY528170 | I8: 2017. | J8: 73 kW | L8: 5 | M8: 07.08. | N8: 0.58 | Q8: =O8+P8 -> 0
A9: 4. | B9: ZG 1566-EZ | C9: DZ ZAGREB-ISTOK | D9: osobno | E9: VOLKSWAGEN | F9: CADDY | G9: 1.6 TDI | H9: WV2ZZZ2KZDX090385 | I9: 2013. | J9: 55 kW | L9: 5 | M9: 26.08. | N9: 0.54 | Q9: =O9+P9 -> 0
A10: 5. | B10: ZG 2281-FC | C10: DZ ZAGREB-ISTOK | D10: Osobno | E10: ŠKODA | F10: FABIA | G10: 1.2i | H10: TMBEA25J9E3050045 | I10: 2013. | J10: 44 kW | L10: 5 | M10: 06.11. | N10: 0.58 | Q10: =O10+P10 -> 0
A11: 6. | B11: ZG 1531-EI | C11: DZ ZAGREB-ISTOK | D11: Osobno | E11: ŠKODA | F11: FABIA | G11: 1.6 TDI | H11: TMBJJ45J1B3101009 | I11: 2010. | J11: 66 kW | L11: 5 | M11: 11.11. | N11: 0.5 | Q11: =O11+P11 -> 0
A12: 7. | B12: ZG 7259-GL | C12: DZ ZAGREB-ISTOK | D12: Osobno | E12: CITROEN | F12: C3 | G12: FEEL BLUE 1.6 HDI | H12: VF7SXBHW6HT672218 | I12: 2017. | J12: 55 kW | L12: 5 | M12: 13.11. | N12: 0.54 | Q12: =O12+P12 -> 0
A13: 8. | B13: ZG 4805-EI | C13: DZ ZAGREB-ISTOK | D13: Osobno | E13: CITROEN | F13: C4 | G13: 1.6 HDI | H13: VF7LC9HXCAY560940 | I13: 2010. | J13: 66 kW | L13: 5 | M13: 29.11. | N13: 0.5 | Q13: =O13+P13 -> 0
A14: 9. | B14: ZG 3597-DK | C14: DZ ZAGREB-ISTOK | D14: Osobno | E14: CITROEN | F14: BERLINGO | G14: 1.6 HDI | H14: VF7GJ9HXC93439660 | I14: 2007. | J14: 66 kW | L14: 5 | M14: 03.12. | N14: 0.58 | Q14: =O14+P14 -> 0
A15: 10. | B15: ZG 2382-DU | C15: DZ ZAGREB-ISTOK | D15: Osobno | E15: VOLKSWAGEN | F15: CADDY | G15: 1.6i | H15: WV2ZZZ2KZ9X020918 | I15: 2008. | J15: 75 kW | L15: 5 | M15: 05.12. | N15: 0.4 | Q15: =O15+P15 -> 0
A16: 11. | B16: ZG 1654-DL | C16: DZ ZAGREB-ISTOK | D16: Osobno | E16: CITROEN | F16: C3 | G16: 1.4i | H16: VF7FCKFVC29000738 | I16: 2007. | J16: 54 kW | L16: 5 | M16: 06.12. | N16: 0.6 | Q16: =O16+P16 -> 0
A17: 12. | B17: ZG 6862-HN | C17: DZ ZAGREB-ISTOK | D17: teretno N1 | E17: CITROEN | F17: BERLINGO | G17: BUSINESS XL LIVE PACK 1.5 BHDI | H17: VR7EFYHYCKJ865249 | I17: 2019. | J17: 75kW | K17: 2360 | L17: 5 | M17: 17.12. | N17: 0.55 | Q17: =O17+P17 -> 0
A18: 13. | B18: ZG 6507-IN | C18: DZ ZAGREB-ISTOK | D18: teretno N1 | E18: CITROEN | F18: BERLINGO | G18: BUSINESS M LIVE PACK 1.5 BHDI | H18: VR7EFYHT2MJ926828 | I18: 2021. | J18: 75 kW | K18: 2360 | L18: 5 | M18: 22.02. | N18: 0.65 | Q18: =O18+P18 -> 0
A19: 14. | B19: ZG 4075-IV | C19: DZ ZAGREB-ISTOK | D19: Osobno | E19: CITROEN | F19: C3 | G19: 1.2i | H19: VF7SXHMRVNT623837 | I19: 2022. | J19: 61 kW | L19: 5 | M19: 29.09. | N19: 0.7 | Q19: =O19+P19 -> 0
A20: 15. | B20: ZG 7683-JC | C20: DZ ZAGREB-ISTOK | D20: Osobno | E20: CITROEN | F20: C3 | G20: 1.2i | H20: VF7SXHMRVNT680512 | I20: 2022. | J20: 61 kW | L20: 5 | M20: 15.02. | N20: 0.7 | Q20: =O20+P20 -> 0
A21: 16. | B21: ZG 7643-JC | C21: DZ ZAGREB-ISTOK | D21: Osobno | E21: CITROEN | F21: C3 | G21: 1.2i | H21: VF7SXHMRVNT680509 | I21: 2022. | J21: 61 kW | L21: 5 | M21: 15.02. | N21: 0.7 | Q21: =O21+P21 -> 0
A22: UKUPNO: | Q22: =SUM(Q6:Q21) -> 0
A24: Napomena:
A25: Osigurane svote za osiguranje vozača i putnika u vozilu iznose: smrt uslijed nezgode (40.000,00 kn) 5.308,91 €
F26: trajni invaliditet (80.000,00 kn) 10.617,82 €

Sheet Osiguranje AK
A1: OSIGURANJE MOTORNIH VOZILA
A3: Tablica - Kasko osiguranje vozila
A5: KASKO OSIGURANJE VOZILA
A6: R. br. | B6: Reg. oznaka | C6: Osiguranik | D6: Vrsta vozila | E6: Marka | F6: Model | G6: Tip | H6: Br. šasije | I6: God. proizvodnje | J6: Teh. karakter. vozila | K6: NDM | L6: Novonabavna vrijednost (eura) | M6: Datum isteka police | N6: Godišnja premija s 10% poreza (eura)
A7: 1 | B7: 2 | C7: 3 | D7: 4 | E7: 5 | F7: 6 | G7: 7 | H7: 8 | I7: 9 | J7: 10 | K7: 11 | L7: 12 | M7: 13 | N7: 14
A8: 1. | B8: ZG 6507-IN | C8: DZ ZAGREB-ISTOK | D8: teretno N1 | E8: CITROEN | F8: BERLINGO | G8: BUSSINEESS M LIVE PACK 1.5 BHDI | H8: VR7EFYHT2MJ926828 | I8: 2021. | J8: 75 kW | K8: 2360 | L8: 23511.85 | M8: 22.02. | N8: 0
A9: 2. | B9: ZG 4075-IV | C9: DZ ZAGREB-ISTOK | D9: osobno | E9: CITROEN | F9: C3 | G9: 1.2i | H9: VF7SXHMRVNT623837 | I9: 2022. | J9: 61 kW | L9: 17659.48 | M9: 29.09. | N9: 0
A10: 3. | B10: ZG 7683-JC | C10: DZ ZAGREB-ISTOK | D10: osobno | E10: CITROEN | F10: C3 | G10: 1.2i | H10: VF7SXHMRVNT680512 | I10: 2022. | J10: 61 kW | L10: 15862.42 | M10: 15.02. | N10: 0
A11: 4. | B11: ZG 7643-JC | C11: DZ ZAGREB-ISTOK | D11: osobno | E11: CITROEN | F11: C3 | G11: 1.2i | H11: VF7SXHMRVNT680509 | I11: 2022. | J11: 61 kW | L11: 15862.42 | M11: 15.02. | N11: 0
A12: UKUPNO: | N12: =SUM(N8:N11) -> 0
A13: Napomena:
A14: 1. | B14: Ugovara se puno kasko osiguranje bez odbitne franšize
A15: 2. | B15: Osiguranik je u sustavu PDV-a
A16: 3. | B16: Novonabavna vrijednost vozila je iskazana s uključenim PDV-om

Sheet Štete
A2: Godina | B2: Šifra i naziv EU skupine | C2: Iznos likvidacija | D2: Iznos isplata
A3: 2015. | B3: 019 - OSTALA OSIGURANJA NEZGODE | C3: 0 | D3: 0
B4: 031 - OSIGURANJE CESTOVNIH VOZILA - KASKO | C4: 0 | D4: 0
B5: 081 - OSIGURANJE IMOVINE OD POŽARA I NEKIH DRUGIH OPASNOSTI | C5: 1235.52 | D5: 1235.52
B6: 099 - OSTALA OSIGURANJA IMOVINE | C6: 0 | D6: 0
B7: 101 - OBVEZ.OSIG.VLAS.ODN.KORISN.MOT.VOZ.OD ODG. ZA ŠTE.TREĆ.OSOB. | C7: 266.33 | D7: 266.33
B8: 109 - OSTALA OSIGURANJA OD AUTOMOBILSKE ODGOVORNOSTI | C8: 0 | D8: 0
B9: 131 - OSIGURANJE OD ODGOVORNOSTI IMOVINE | C9: 0 | D9: 0
A10: 2016. | B10: 019 - OSTALA OSIGURANJA NEZGODE | C10: 0 | D10: 0
B11: 031 - OSIGURANJE CESTOVNIH VOZILA - KASKO | C11: 132.72 | D11: 132.72
B12: 081 - OSIGURANJE IMOVINE OD POŽARA I NEKIH DRUGIH OPASNOSTI | C12: 1960.98 | D12: 1960.98
B13: 099 - OSTALA OSIGURANJA IMOVINE | C13: 0 | D13: 0
B14: 101 - OBVEZ.OSIG.VLAS.ODN.KORISN.MOT.VOZ.OD ODG. ZA ŠTE.TREĆ.OSOB. | C14: 5860.49 | D14: 5860.49
B15: 131 - OSIGURANJE OD ODGOVORNOSTI IMOVINE | C15: 2322.65 | D15: 2322.65
A16: 2017. | B16: 019 - OSTALA OSIGURANJA NEZGODE | C16: 0 | D16: 0
B17: 031 - OSIGURANJE CESTOVNIH VOZILA - KASKO | C17: 0 | D17: 0
B18: 081 - OSIGURANJE IMOVINE OD POŽARA I NEKIH DRUGIH OPASNOSTI | C18: 4368.06 | D18: 4368.06
B19: 099 - OSTALA OSIGURANJA IMOVINE | C19: 663.61 | D19: 663.61
B20: 101 - OBVEZ.OSIG.VLAS.ODN.KORISN.MOT.VOZ.OD ODG. ZA ŠTE.TREĆ.OSOB. | C20: 0 | D20: 0
B21: 131 - OSIGURANJE OD ODGOVORNOSTI IMOVINE | C21: 0 | D21: 0
A22: 2018. | B22: 019 - OSTALA OSIGURANJA NEZGODE | C22: 0 | D22: 0
B23: 099 - OSTALA OSIGURANJA IMOVINE | C23: 132.72 | D23: 132.72
B24: 031 - OSIGURANJE CESTOVNIH VOZILA - KASKO | C24: 0 | D24: 0
B25: 101 - OBVEZ.OSIG.VLAS.ODN.KORISN.MOT.VOZ.OD ODG. ZA ŠTE.TREĆ.OSOB. | C25: 106.18 | D25: 106.18
A26: 2019. | B26: 019 - OSTALA OSIGURANJA NEZGODE | C26: 0 | D26: 0
B27: 081 - OSIGURANJE IMOVINE OD POŽARA I NEKIH DRUGIH OPASNOSTI | C27: 0 | D27: 0
B28: 099 - OSTALA OSIGURANJA IMOVINE | C28: 1061.78 | D28: 1061.78
B29: 131 - OSIGURANJE OD ODGOVORNOSTI IMOVINE | C29: 0 | D29: 0
A30: 2020. | B30: 019 - OSTALA OSIGURANJA NEZGODE | C30: 0 | D30: 0
B31: 081 - OSIGURANJE IMOVINE OD POŽARA I NEKIH DRUGIH OPASNOSTI | C31: 558.06 | D31: 558.06
B32: 099 - OSTALA OSIGURANJA IMOVINE | C32: 0 | D32: 0
B33: 031 - OSIGURANJE CESTOVNIH VOZILA - KASKO | C33: 0 | D33: 0
B34: 101 - OBVEZ.OSIG.VLAS.ODN.KORISN.MOT.VOZ.OD ODG. ZA ŠTE.TREĆ.OSOB. | C34: 0 | D34: 0
A35: 2021. | B35: 019 - OSTALA OSIGURANJA NEZGODE | C35: 0 | D35: 0
B36: 099 - OSTALA OSIGURANJA IMOVINE | C36: 0 | D36: 0
B37: 031 - OSIGURANJE CESTOVNIH VOZILA - KASKO | C37: 0 | D37: 0
B38: 101 - OBVEZ.OSIG.VLAS.ODN.KORISN.MOT.VOZ.OD ODG. ZA ŠTE.TREĆ.OSOB. | C38: 0 | D38: 0
B39: UKUPNO | C39: =SUM(C3:C38) -> 18669.1 | D39: =SUM(D3:D38) -> 18669.1
A41: Vrijednost je iskazana u eurima.
